BEGIN:VCALENDAR
VERSION:2.0
PRODID:-//6th Friern Barnet Scouts - ECPv6.15.20//NONSGML v1.0//EN
CALSCALE:GREGORIAN
METHOD:PUBLISH
X-WR-CALNAME:6th Friern Barnet Scouts
X-ORIGINAL-URL:https://www.thescouthut.org.uk
X-WR-CALDESC:Events for 6th Friern Barnet Scouts
REFRESH-INTERVAL;VALUE=DURATION:PT1H
X-Robots-Tag:noindex
X-PUBLISHED-TTL:PT1H
BEGIN:VTIMEZONE
TZID:Europe/London
BEGIN:DAYLIGHT
TZOFFSETFROM:+0000
TZOFFSETTO:+0100
TZNAME:BST
DTSTART:20210328T010000
END:DAYLIGHT
BEGIN:STANDARD
TZOFFSETFROM:+0100
TZOFFSETTO:+0000
TZNAME:GMT
DTSTART:20211031T010000
END:STANDARD
BEGIN:DAYLIGHT
TZOFFSETFROM:+0000
TZOFFSETTO:+0100
TZNAME:BST
DTSTART:20220327T010000
END:DAYLIGHT
BEGIN:STANDARD
TZOFFSETFROM:+0100
TZOFFSETTO:+0000
TZNAME:GMT
DTSTART:20221030T010000
END:STANDARD
BEGIN:DAYLIGHT
TZOFFSETFROM:+0000
TZOFFSETTO:+0100
TZNAME:BST
DTSTART:20230326T010000
END:DAYLIGHT
BEGIN:STANDARD
TZOFFSETFROM:+0100
TZOFFSETTO:+0000
TZNAME:GMT
DTSTART:20231029T010000
END:STANDARD
BEGIN:DAYLIGHT
TZOFFSETFROM:+0000
TZOFFSETTO:+0100
TZNAME:BST
DTSTART:20240331T010000
END:DAYLIGHT
BEGIN:STANDARD
TZOFFSETFROM:+0100
TZOFFSETTO:+0000
TZNAME:GMT
DTSTART:20241027T010000
END:STANDARD
BEGIN:DAYLIGHT
TZOFFSETFROM:+0000
TZOFFSETTO:+0100
TZNAME:BST
DTSTART:20250330T010000
END:DAYLIGHT
BEGIN:STANDARD
TZOFFSETFROM:+0100
TZOFFSETTO:+0000
TZNAME:GMT
DTSTART:20251026T010000
END:STANDARD
END:VTIMEZONE
BEGIN:VEVENT
DTSTART;VALUE=DATE:20231201
DTEND;VALUE=DATE:20240107
DTSTAMP:20260420T232643
CREATED:20230909T132831Z
LAST-MODIFIED:20230909T132831Z
UID:1705-1701388800-1704585599@www.thescouthut.org.uk
SUMMARY:Living Advent Calendar
DESCRIPTION:Each evening during Advent (1st – 24th December)\, a picture or display will be put up in a window of a different house and stay there until Twelfth Night (6th January 2024). \nWe’ll post photos here but you should see them for real to get the best view! \nBuy a list of the addresses at which you can see the windows\, and visit them all!
URL:https://www.thescouthut.org.uk/event/living-advent-calendar-2/
CATEGORIES:Group
ATTACH;FMTTYPE=image/png:https://www.thescouthut.org.uk/wp-content/uploads/2022/12/Christmas_Ball_Number_One-e1670238804478.png
END:VEVENT
BEGIN:VEVENT
DTSTART;TZID=Europe/London:20231112T101500
DTEND;TZID=Europe/London:20231112T120000
DTSTAMP:20260420T232643
CREATED:20221231T162152Z
LAST-MODIFIED:20221231T162152Z
UID:1267-1699784100-1699790400@www.thescouthut.org.uk
SUMMARY:Remembrance Parade
DESCRIPTION:Please gather at the Legion at 10:15am to be ready to Parade at 10:45am. \nWe will then parade to East Barnet Memorial for a multi-religious service. \nAfterwards we will parade back to the Legion\, where refreshments will be available.
URL:https://www.thescouthut.org.uk/event/remembrance-parade-2/
LOCATION:East Barnet Royal British Legion Club\, 38 Brookhill Road\, East Barnet\, Herts\, EN4 8SL
CATEGORIES:Group
ATTACH;FMTTYPE=image/jpeg:https://www.thescouthut.org.uk/wp-content/uploads/2022/10/Poppy-e1664885914313.jpg
END:VEVENT
BEGIN:VEVENT
DTSTART;TZID=Europe/London:20231111T193000
DTEND;TZID=Europe/London:20231111T223000
DTSTAMP:20260420T232643
CREATED:20230613T170816Z
LAST-MODIFIED:20231005T155410Z
UID:1569-1699731000-1699741800@www.thescouthut.org.uk
SUMMARY:Bingo Night 2023
DESCRIPTION:Our popular Bingo Night is back\, with the chance to win some fabulous prizes!\nTickets at £10 per person are available here in advance and on the door on the night.\nYour ticket entitles you to one book of bingo cards. Additional books of cards can then be purchased at £1 each.\nSnacks will be provided and there’ll be a bar. Dabbers will be on sale for the serious players!\nYou can pay cash or by card.\nThe proceeds will help more young people to get the benefit of Scouting.\nIt’s always a fun filled night so get everyone together and come along!
URL:https://www.thescouthut.org.uk/event/bingo-night-2023/
LOCATION:All Saints’ Church Hall\, 122 Oakleigh Road North\, London\, N20 9JU
CATEGORIES:Group
ATTACH;FMTTYPE=image/jpeg:https://www.thescouthut.org.uk/wp-content/uploads/2022/06/Family-Bingo-Night-e1655834537840.jpg
END:VEVENT
BEGIN:VEVENT
DTSTART;TZID=Europe/London:20231020T190000
DTEND;TZID=Europe/London:20231022T150000
DTSTAMP:20260420T232643
CREATED:20230707T102236Z
LAST-MODIFIED:20230924T160926Z
UID:1632-1697828400-1697986800@www.thescouthut.org.uk
SUMMARY:Group Camp
DESCRIPTION:Our Group Camp this October (20th – 22nd) will be at Phasels Wood Scout Camp\, Kings Langley\, Herts. (There is no postcode for the main entrance! The site is just 3 miles from Junction 20 Northbound of the M25 towards Hemel Hempstead on the A41. The entrance is in the second lay-by from the M25 roundabout. There is a sign just before the lay-by: ‘Scout Camp access via lay-by’.  If you use Google Maps you can put in the Plus Code PGGF+HW Kings Langley) \nPhasels Wood is around 30 to 45 minutes drive from Manor Drive\, depending on traffic. We will all meet at Phasels Wood at 7pm on the Friday and pick up on the Sunday at 3pm. If there are any transport problems we can try to help. \nThis is a great chance to practise your camping skills and add to your Nights Away experience! There are on-site activities from Abseiling to Zorbing and on Saturday there will be a Group Campfire in the evening. \nScouts will be sleeping in tents and you will be cooking some of your meals in Patrols\, on wood fires. We have booked indoor accommodation for the Cubs to sleep in\, which includes a kitchen and hall that we will use for any central meals. \nThe cost for this camp is £75\, with a £25 deposit requested by 8th October. As this invitation does not give parents much notice\, we are asking for a second payment of £25 by 22nd October and the balance of £25 by 5th November\, after the camp. \nA kit list is available on MyScout/OSM. \nPlease remember that as a Group we have money set aside via our Helping Hands scheme to ensure that no young person misses out on any of the opportunities that Scouting has to offer. If you want to attend camp but the cost is a barrier\, you can speak to any Leader or email our Chairman Richard Charles\, Chair@thescouthut.org.uk. We know that asking for help isn’t easy so we’re trying to make it as simple as we can; there are no forms to fill in and you won’t be asked to make any repayments.
URL:https://www.thescouthut.org.uk/event/group-camp-3/
LOCATION:Phasels Wood Activity Centre\, A41\, Kings Langley\, Herts\, WD4
CATEGORIES:Group
ATTACH;FMTTYPE=image/jpeg:https://www.thescouthut.org.uk/wp-content/uploads/2023/07/download-e1690213909812.jpg
END:VEVENT
BEGIN:VEVENT
DTSTART;VALUE=DATE:20231014
DTEND;VALUE=DATE:20231015
DTSTAMP:20260420T232643
CREATED:20230909T132629Z
LAST-MODIFIED:20230909T132629Z
UID:1703-1697241600-1697327999@www.thescouthut.org.uk
SUMMARY:Scouts' Chiltern 20 Challenge Hike
DESCRIPTION:The Chiltern 20 Challenge Hike is a tough walk in The Chiltern Hills\, organised by Greater London North Scout County. \nThe Challenge is a test of physical ability as well as good orienteering. \nThere are two levels of this Challenge event: a Senior event where the Scouts will navigate around a longer route of up to 25km\, and a Junior event where the Scouts will navigate around a shorter route of up to 15km. \nThe Senior event is for any member of the Scout Troop. There are two entry levels in the Senior event\, either no adult walking with team\, or a maximum of two adults walking with the team. \nThe Junior event is for Scouts aged under 12 years old on the day. They must be accompanied by one or two adults. This event is ideally suited for Scouts that have not taken part before. \nAll adults accompanying a team must be current members of The Scout Association and have a valid DBS certificate on the day of the event and must supply their membership number when teams are registered.  Any adult walking with a team is honour bound not to take the lead.  This role is purely to ensure the safety of the young people. \nEach team must be comprised of between 3 – 5 participants\, all of whom must be members of The Scout Association or Girl Guiding UK.
URL:https://www.thescouthut.org.uk/event/scouts-chiltern-20-challenge-hike-2/
CATEGORIES:Scouts
ATTACH;FMTTYPE=image/jpeg:https://www.thescouthut.org.uk/wp-content/uploads/2022/05/C20-logo.jpg
END:VEVENT
BEGIN:VEVENT
DTSTART;TZID=Europe/London:20230924T101500
DTEND;TZID=Europe/London:20230924T120000
DTSTAMP:20260420T232643
CREATED:20221231T161637Z
LAST-MODIFIED:20230531T214625Z
UID:1263-1695550500-1695556800@www.thescouthut.org.uk
SUMMARY:Church Parade
DESCRIPTION:An all-age Harvest Festival service at Manor Drive. The service starts at 10.30am but please arrive at 10.15am so that we can assemble and go into the church together. Please attend in full uniform. \nParents are welcome too!
URL:https://www.thescouthut.org.uk/event/church-parade-4/
LOCATION:Manor Drive Methodist Church\, Manor Drive\, London\, N20 0DZ
CATEGORIES:Group
ATTACH;FMTTYPE=image/jpeg:https://www.thescouthut.org.uk/wp-content/uploads/2022/12/Church-e1672503083779.jpg
END:VEVENT
BEGIN:VEVENT
DTSTART;TZID=Europe/London:20230916T150000
DTEND;TZID=Europe/London:20230916T170000
DTSTAMP:20260420T232643
CREATED:20230718T180236Z
LAST-MODIFIED:20230718T180236Z
UID:1674-1694876400-1694883600@www.thescouthut.org.uk
SUMMARY:Annual General Meeting
DESCRIPTION:A chance for you to find out how the Group’s getting on\, and what we’ve been up to over the last 12 months. \nThe meeting should last for about 30 minutes\, and there will then be some videos and awards will be handed out. \nEveryone’s welcome! \nPlease let our secretary Rekha know that you’ll be coming by emailing her on secretary@thescouthut.org.uk
URL:https://www.thescouthut.org.uk/event/annual-general-meeting-2/
LOCATION:Frith Grange Scout Campsite\, Frith Lane\, London\, NW7 1PT\, United Kingdom
CATEGORIES:Exec,Group
ATTACH;FMTTYPE=image/png:https://www.thescouthut.org.uk/wp-content/uploads/2022/05/Committee-e1652635595590.png
END:VEVENT
BEGIN:VEVENT
DTSTART;VALUE=DATE:20230805
DTEND;VALUE=DATE:20230817
DTSTAMP:20260420T232643
CREATED:20220514T215919Z
LAST-MODIFIED:20220906T094915Z
UID:589-1691193600-1692230399@www.thescouthut.org.uk
SUMMARY:Scout Summer Camp: Haarlem Jamborette
DESCRIPTION:Experience the Haarlem Jamborette with over 3\,000 international Scouts in the recreational area of Spaarnwoude\, close to Amsterdam\, Haarlem and the North Sea. Twelve days full of great Scouting activities\, meeting new friends from more than 25 different countries\, and of course fun festivities in between to remember forever. You can’t miss this camp for Scouts aged 10 – 17 years old in the summer of 2023! You can block 5 August 2023 – 16 August 2023 in your calendar\, because these 12 days the 14th edition of Haarlem Jamborette 2023 will take place! It’s 2023 before you know it! \nSee thescouthut.org.uk/scouts/haarlem/ for more details.
URL:https://www.thescouthut.org.uk/event/scout-summer-camp-haarlem-jamborette/
LOCATION:Recreatiegebied Spaarnwoude\, Genieweg 46\, 1981 LN Velsen-South\, 2002 RB Haarlem\, Netherlands
CATEGORIES:Scouts
ATTACH;FMTTYPE=image/jpeg:https://www.thescouthut.org.uk/wp-content/uploads/2022/05/10478946_830972070248995_5352193246943566657_n.jpg
END:VEVENT
BEGIN:VEVENT
DTSTART;TZID=Europe/London:20230716T101500
DTEND;TZID=Europe/London:20230716T120000
DTSTAMP:20260420T232643
CREATED:20221231T161524Z
LAST-MODIFIED:20221231T161524Z
UID:1261-1689502500-1689508800@www.thescouthut.org.uk
SUMMARY:Church Parade
DESCRIPTION:An all-age service at Manor Drive. The service starts at 10.30am but please arrive at 10.15am so that we can assemble and go into the church together. Please attend in full uniform. \nParents are welcome too!
URL:https://www.thescouthut.org.uk/event/church-parade-3/
LOCATION:Manor Drive Methodist Church\, Manor Drive\, London\, N20 0DZ
CATEGORIES:Group
ATTACH;FMTTYPE=image/jpeg:https://www.thescouthut.org.uk/wp-content/uploads/2022/12/Church-e1672503083779.jpg
END:VEVENT
BEGIN:VEVENT
DTSTART;TZID=Europe/London:20230617T100000
DTEND;TZID=Europe/London:20230618T160000
DTSTAMP:20260420T232643
CREATED:20230321T192531Z
LAST-MODIFIED:20230321T192531Z
UID:1471-1686996000-1687104000@www.thescouthut.org.uk
SUMMARY:Haarlem Jamborette pre camp camp
DESCRIPTION:A preparation camp for those who are going to the Jamborette in the summer
URL:https://www.thescouthut.org.uk/event/haarlem-jamborette-pre-camp-camp/
LOCATION:Frith Grange Scout Campsite\, Frith Lane\, London\, NW7 1PT\, United Kingdom
CATEGORIES:Scouts
ATTACH;FMTTYPE=image/png:https://www.thescouthut.org.uk/wp-content/uploads/2023/03/Haarlem-2023-badge-e1679426582841.png
END:VEVENT
BEGIN:VEVENT
DTSTART;VALUE=DATE:20230604
DTEND;VALUE=DATE:20230605
DTSTAMP:20260420T232643
CREATED:20220922T120529Z
LAST-MODIFIED:20220922T120529Z
UID:971-1685836800-1685923199@www.thescouthut.org.uk
SUMMARY:District Scouts’ Water Activity Day
DESCRIPTION:
URL:https://www.thescouthut.org.uk/event/district-scouts-water-activity-day-2/
LOCATION:ESSA Water Activities Centre\, Meadgate Road\, Broxbourne\, Herts\, United Kingdom
CATEGORIES:Scouts
ATTACH;FMTTYPE=image/png:https://www.thescouthut.org.uk/wp-content/uploads/2022/05/ESSA-e1663848321326.png
END:VEVENT
BEGIN:VEVENT
DTSTART;TZID=Europe/London:20230526T180000
DTEND;TZID=Europe/London:20230528T170000
DTSTAMP:20260420T232643
CREATED:20230119T210540Z
LAST-MODIFIED:20230119T210540Z
UID:1308-1685124000-1685293200@www.thescouthut.org.uk
SUMMARY:Group Camp
DESCRIPTION:
URL:https://www.thescouthut.org.uk/event/group-camp-2/
LOCATION:Well End Activity Centre\, Well End\, Borehamwood\, Herts\, WD6 5PR
CATEGORIES:Group
ATTACH;FMTTYPE=image/png:https://www.thescouthut.org.uk/wp-content/uploads/2023/01/Well-End-e1679249694820.png
END:VEVENT
BEGIN:VEVENT
DTSTART;TZID=Europe/London:20230520T100000
DTEND;TZID=Europe/London:20230520T130000
DTSTAMP:20260420T232643
CREATED:20230502T155111Z
LAST-MODIFIED:20230504T093242Z
UID:1527-1684576800-1684587600@www.thescouthut.org.uk
SUMMARY:Car Wash @ Spring Splash
DESCRIPTION:Manor Drive are holding their annual Spring Splash\, and as usual we’re running the Car Wash\, to raise funds for our trip to the Haarlem Jamborette. \nWe need your cars to wash\, so come along between 10am – 1pm! \n  \nCan’t make it? Could you donate instead?
URL:https://www.thescouthut.org.uk/event/car-wash-spring-splash/
LOCATION:Manor Drive Methodist Church\, Manor Drive\, London\, N20 0DZ
CATEGORIES:Group
ATTACH;FMTTYPE=image/png:https://www.thescouthut.org.uk/wp-content/uploads/2023/05/Car-Wash-event-pic.png
END:VEVENT
BEGIN:VEVENT
DTSTART;TZID=Europe/London:20230425T201500
DTEND;TZID=Europe/London:20230425T210000
DTSTAMP:20260420T232643
CREATED:20230321T191650Z
LAST-MODIFIED:20230321T191728Z
UID:1467-1682453700-1682456400@www.thescouthut.org.uk
SUMMARY:Fundraising Fitness Class
DESCRIPTION:Get fit\, have fun & raise money to help the Scouts to get to the 2023 Haarlem Jamborette. \nTake part in a fun and achievable fitness class with a fantastic (and very recognisable) playlist that will get your step count up and help you to get in shape. This class is perfect for men and women of all abilities\, the aim is to have fun and there’s no pressure or expectation from participants; we’ll turn up the volume and enjoy the night! \nThere’s no set charge – please donate whatever you can at https://wonderful.org/fundraisers/ndwXR and come along. \n100% of proceeds go towards the Scouts’ Haarlem Jamborette fundraising target.
URL:https://www.thescouthut.org.uk/event/fundraising-fitness-class/
LOCATION:Manor Drive Methodist Church\, Manor Drive\, London\, N20 0DZ
CATEGORIES:Group
ATTACH;FMTTYPE=image/png:https://www.thescouthut.org.uk/wp-content/uploads/2023/03/Fitness-Class-e1679426201170.png
END:VEVENT
BEGIN:VEVENT
DTSTART;TZID=Europe/London:20230423T133000
DTEND;TZID=Europe/London:20230423T170000
DTSTAMP:20260420T232643
CREATED:20221011T090612Z
LAST-MODIFIED:20230329T122323Z
UID:993-1682256600-1682269200@www.thescouthut.org.uk
SUMMARY:District St George’s Day Parade
DESCRIPTION:We will form up in Victoria Park and parade along Ballards Lane\, Regents Park Road and East End Road to Stephens House\, where we will renew our Promise. \nPlease be in full\, smart uniform.  If this is a problem for you\, please speak to one of the leaders.
URL:https://www.thescouthut.org.uk/event/district-st-georges-day-parade/
LOCATION:Victoria Park\, Ballards Lane\, London\, N3 2NE
CATEGORIES:Group
ATTACH;FMTTYPE=image/jpeg:https://www.thescouthut.org.uk/wp-content/uploads/2022/10/ia_0512_the-real-story-behind-st-george-and-the-dragon-spot-2-2-e1665479164757.jpg
END:VEVENT
BEGIN:VEVENT
DTSTART;TZID=Europe/London:20230326T101500
DTEND;TZID=Europe/London:20230326T120000
DTSTAMP:20260420T232643
CREATED:20221231T161408Z
LAST-MODIFIED:20221231T161408Z
UID:1259-1679825700-1679832000@www.thescouthut.org.uk
SUMMARY:Church Parade
DESCRIPTION:An all-age service at Manor Drive. The service starts at 10.30am but please arrive at 10.15am so that we can assemble and go into the church together. Please attend in full uniform. \nParents are welcome too!
URL:https://www.thescouthut.org.uk/event/church-parade-2/
LOCATION:Manor Drive Methodist Church\, Manor Drive\, London\, N20 0DZ
CATEGORIES:Group
ATTACH;FMTTYPE=image/jpeg:https://www.thescouthut.org.uk/wp-content/uploads/2022/12/Church-e1672503083779.jpg
END:VEVENT
BEGIN:VEVENT
DTSTART;TZID=Europe/London:20230325T193000
DTEND;TZID=Europe/London:20230325T220000
DTSTAMP:20260420T232643
CREATED:20230118T214804Z
LAST-MODIFIED:20230309T150627Z
UID:1299-1679772600-1679781600@www.thescouthut.org.uk
SUMMARY:Quiz Night for Haarlem
DESCRIPTION:Come along and test your general knowledge at our Quiz Night!\n\nTickets at £12 per person are available here in advance.\n\nThere’ll be a bar at which you can pay cash or card.\n\nThe proceeds will help our Scouts to get to their summer camp at the Haarlem Jamborette in the Netherlands.\n\nIt should be a fun filled night so get everyone together and come along!
URL:https://www.thescouthut.org.uk/event/quiz/
LOCATION:All Saints’ Church Hall\, 122 Oakleigh Road North\, London\, N20 9JU
CATEGORIES:Group
ATTACH;FMTTYPE=image/png:https://www.thescouthut.org.uk/wp-content/uploads/2023/01/D9A60831-B399-4826-9A65-CB2D35A8FEFD.png
END:VEVENT
BEGIN:VEVENT
DTSTART;TZID=Europe/London:20230211T060000
DTEND;TZID=Europe/London:20230211T233000
DTSTAMP:20260420T232643
CREATED:20230115T213301Z
LAST-MODIFIED:20230115T213950Z
UID:1279-1676095200-1676158200@www.thescouthut.org.uk
SUMMARY:Hike for Haarlem
DESCRIPTION:Our leaders are taking on the Southern 50 Challenge to raise funds to help our Scouts to go to the Haarlem Jamborette in August. \nThe Southern 50 is a tough 50k walk in the Chiltern Hills through Buckinghamshire and surrounding counties\, organised by Greater London North Scouts. We want to fund at least £10\,000 of the total cost. \nThe more that we raise\, the less that they have to pay. Your contribution will make an impact\, whether you donate a little or a lot. Anything helps. \nPlease help us to get to Haarlem! \nThank you for your support. \nDonate
URL:https://www.thescouthut.org.uk/event/hike-for-haarlem/
CATEGORIES:Scouts
ATTACH;FMTTYPE=image/png:https://www.thescouthut.org.uk/wp-content/uploads/2023/01/6FB-Hike-For-Haarlem-e1673818629923.png
END:VEVENT
BEGIN:VEVENT
DTSTART;TZID=Europe/London:20230129T133000
DTEND;TZID=Europe/London:20230129T170000
DTSTAMP:20260420T232643
CREATED:20220922T115856Z
LAST-MODIFIED:20230101T214840Z
UID:965-1674999000-1675011600@www.thescouthut.org.uk
SUMMARY:Scouts' District Swimming Gala
DESCRIPTION:Arrive 1.30pm\nCompetition starts 2.30pm\nCompetition ends 4.30pm\nEvent finishes 5.00pm
URL:https://www.thescouthut.org.uk/event/scouts-swimming-gala/
LOCATION:Barnet Copthall Leisure Centre\, Champions Way\, London\, NW4 1PX
CATEGORIES:Scouts
ATTACH;FMTTYPE=image/jpeg:https://www.thescouthut.org.uk/wp-content/uploads/2022/09/Swimming-e1663847925191.jpg
END:VEVENT
BEGIN:VEVENT
DTSTART;TZID=Europe/London:20230122T140000
DTEND;TZID=Europe/London:20230122T170000
DTSTAMP:20260420T232643
CREATED:20230101T205832Z
LAST-MODIFIED:20230101T215005Z
UID:1270-1674396000-1674406800@www.thescouthut.org.uk
SUMMARY:Cubs’ District Swimming Gala
DESCRIPTION:Cost £3 for each person attending. \nFor full details of the event please see https://www.barnetscouts.com/events/cubs-swimming-gala
URL:https://www.thescouthut.org.uk/event/cubs-district-swimming-gala/
LOCATION:Barnet Copthall Leisure Centre\, Champions Way\, London\, NW4 1PX
CATEGORIES:Cubs
ATTACH;FMTTYPE=image/jpeg:https://www.thescouthut.org.uk/wp-content/uploads/2022/09/Swimming-e1663847925191.jpg
END:VEVENT
BEGIN:VEVENT
DTSTART;TZID=Europe/London:20230115T101500
DTEND;TZID=Europe/London:20230115T120000
DTSTAMP:20260420T232643
CREATED:20221231T161141Z
LAST-MODIFIED:20221231T161141Z
UID:1256-1673777700-1673784000@www.thescouthut.org.uk
SUMMARY:Church Parade
DESCRIPTION:An all-age service at Manor Drive. The service starts at 10.30am but please arrive at 10.15am so that we can assemble and go into the church together. Please attend in full uniform. \nParents are welcome too!
URL:https://www.thescouthut.org.uk/event/church-parade/
LOCATION:Manor Drive Methodist Church\, Manor Drive\, London\, N20 0DZ
CATEGORIES:Group
ATTACH;FMTTYPE=image/jpeg:https://www.thescouthut.org.uk/wp-content/uploads/2022/12/Church-e1672503083779.jpg
END:VEVENT
BEGIN:VEVENT
DTSTART;TZID=Europe/London:20230107T164500
DTEND;TZID=Europe/London:20230107T191500
DTSTAMP:20260420T232643
CREATED:20221231T145703Z
LAST-MODIFIED:20221231T145847Z
UID:1250-1673109900-1673118900@www.thescouthut.org.uk
SUMMARY:Swim to Haarlem
DESCRIPTION:We will have the pool to ourselves\, and you will be able to: \n\nTry for the Swimmer badge\nTake part in time trials for the District Gala (which will be on Sunday 29 Jan)\nSwim to Haarlem – all lengths completed will count towards our aim of 361 lengths!\n\nThis is an Event on OSM/MyScout – please accept the invitation if you haven’t already\, so that we know who will be coming.
URL:https://www.thescouthut.org.uk/event/swim-to-haarlem/
LOCATION:Furzefield Sports Centre\, Mutton Lane\, Potters Bar\, Herts\, EN6 3BW
CATEGORIES:Scouts
ATTACH;FMTTYPE=image/jpeg:https://www.thescouthut.org.uk/wp-content/uploads/2022/12/60-604584_person-swimming-clipart-e1672498715724.jpg
END:VEVENT
BEGIN:VEVENT
DTSTART;TZID=Europe/London:20230106T190000
DTEND;TZID=Europe/London:20230106T210000
DTSTAMP:20260420T232643
CREATED:20221231T150532Z
LAST-MODIFIED:20221231T150532Z
UID:1254-1673031600-1673038800@www.thescouthut.org.uk
SUMMARY:Scouts – First meeting of term
DESCRIPTION:
URL:https://www.thescouthut.org.uk/event/scouts-first-meeting-of-term-2/
LOCATION:Manor Drive Methodist Church\, Manor Drive\, London\, N20 0DZ
CATEGORIES:Scouts
ATTACH;FMTTYPE=image/png:https://www.thescouthut.org.uk/wp-content/uploads/2022/03/scoutlogo-e1660119032937.png
END:VEVENT
BEGIN:VEVENT
DTSTART;TZID=Europe/London:20221218T181500
DTEND;TZID=Europe/London:20221218T193000
DTSTAMP:20260420T232643
CREATED:20221211T135536Z
LAST-MODIFIED:20221211T135552Z
UID:1198-1671387300-1671391800@www.thescouthut.org.uk
SUMMARY:Carol Service & Parade
DESCRIPTION:Our last Church Parade of 2022 will be the Carol Service at Manor Drive on the evening of Sunday 18th December (after the World Cup Final). \nWe would like everyone to make a special effort to attend\, in full uniform please. Attendance at Church Parades has been poor\, and a good turnout would show Manor Drive how much we appreciate their support in allowing us to be part of the church community. \nIt’s a special service for Christmas and parents are of course very welcome to come along\, too. Please arrive at 6.15pm so that we can form up as a Group before the service starts at 6.30pm.
URL:https://www.thescouthut.org.uk/event/carol-service-parade/
LOCATION:Manor Drive Methodist Church\, Manor Drive\, London\, N20 0DZ
CATEGORIES:Group
ATTACH;FMTTYPE=image/png:https://www.thescouthut.org.uk/wp-content/uploads/2022/12/christingle-e1670766922689.png
END:VEVENT
BEGIN:VEVENT
DTSTART;TZID=Europe/London:20221209T190000
DTEND;TZID=Europe/London:20221209T213000
DTSTAMP:20260420T232643
CREATED:20220621T180015Z
LAST-MODIFIED:20221024T211456Z
UID:809-1670612400-1670621400@www.thescouthut.org.uk
SUMMARY:Christmas Show
DESCRIPTION:
URL:https://www.thescouthut.org.uk/event/christmas-show/
LOCATION:Manor Drive Methodist Church\, Manor Drive\, London\, N20 0DZ
CATEGORIES:Group
ATTACH;FMTTYPE=image/png:https://www.thescouthut.org.uk/wp-content/uploads/2022/06/Picture1-e1665574844749.png
END:VEVENT
BEGIN:VEVENT
DTSTART;TZID=Europe/London:20221205T140000
DTEND;TZID=Europe/London:20221205T160000
DTSTAMP:20260420T232643
CREATED:20221205T112355Z
LAST-MODIFIED:20221205T112355Z
UID:1168-1670248800-1670256000@www.thescouthut.org.uk
SUMMARY:Bag Packing & Carol Singing
DESCRIPTION:All sections of the Group are invited to come and take part in our Christmas Good Turn. We will be packing bags for shoppers and carol singing at Waitrose in North Finchley (273 Ballards Lane\, London N12 8NR) between 2-4pm on Saturday 10th December. Please let us know if you are available to come along\, even if only for part of the time. We need as many Scouts as possible (and parents if you are in fine voice) to join us. We will be singing inside with piano accompaniment. Scouts to wear uniform.
URL:https://www.thescouthut.org.uk/event/bag-packing-carol-singing/
LOCATION:Waitrose North Finchley\, 273 Ballards Lane\, London\, N12 8NR
ATTACH;FMTTYPE=image/png:https://www.thescouthut.org.uk/wp-content/uploads/2022/12/Shopping-bag-Edited-e1670239423585.png
END:VEVENT
BEGIN:VEVENT
DTSTART;TZID=Europe/London:20221204T120000
DTEND;TZID=Europe/London:20221204T170000
DTSTAMP:20260420T232643
CREATED:20221012T113944Z
LAST-MODIFIED:20221012T113944Z
UID:997-1670155200-1670173200@www.thescouthut.org.uk
SUMMARY:Barnet Christmas Fayre
DESCRIPTION:We’ll be running a tombola at this year’s Fayre \nPlease come along to help us to raise as much as we can!
URL:https://www.thescouthut.org.uk/event/barnet-christmas-fayre/
LOCATION:High Street\, Barnet\, Herts\, EN5
ATTACH;FMTTYPE=image/jpeg:https://www.thescouthut.org.uk/wp-content/uploads/2022/10/bbac-xmas-fayre-logo-e1665574773388.jpg
END:VEVENT
BEGIN:VEVENT
DTSTART;VALUE=DATE:20221201
DTEND;VALUE=DATE:20230107
DTSTAMP:20260420T232643
CREATED:20221202T141500Z
LAST-MODIFIED:20240805T092223Z
UID:1145-1669852800-1673049599@www.thescouthut.org.uk
SUMMARY:Living Advent Calendar
DESCRIPTION:Each evening during Advent (1st – 24th December)\, a picture or display will be put up in a window of a different house and stay there until Twelfth Night (6th January 2023). \nWe’ll post photos here but you should see them for real to get the best view! \nBuy a list of the addresses at which you can see the windows\, and visit them all!
URL:https://www.thescouthut.org.uk/event/living-advent-calendar/
LOCATION:Manor Drive Methodist Church\, Manor Drive\, London\, N20 0DZ
ATTACH;FMTTYPE=image/png:https://www.thescouthut.org.uk/wp-content/uploads/2022/12/Christmas_Ball_Number_One-e1670238804478.png
END:VEVENT
BEGIN:VEVENT
DTSTART;TZID=Europe/London:20221126T183000
DTEND;TZID=Europe/London:20221126T220000
DTSTAMP:20260420T232643
CREATED:20220519T115825Z
LAST-MODIFIED:20221024T085319Z
UID:780-1669487400-1669500000@www.thescouthut.org.uk
SUMMARY:District Scouts’ Night Adventure
DESCRIPTION:See https://www.barnetscouts.com/events/scouts-night-activity for details.
URL:https://www.thescouthut.org.uk/event/district-scouts-night-activity/
LOCATION:Tolmers Scout Camp & Activity Centre\, Tolmers Road\, Cuffley\, Herts\, EN6 4JS\, United Kingdom
CATEGORIES:Scouts
ATTACH;FMTTYPE=image/png:https://www.thescouthut.org.uk/wp-content/uploads/2022/03/scoutlogo-e1660119032937.png
END:VEVENT
BEGIN:VEVENT
DTSTART;TZID=Europe/London:20221119T193000
DTEND;TZID=Europe/London:20221119T223000
DTSTAMP:20260420T232643
CREATED:20220621T180440Z
LAST-MODIFIED:20221025T141841Z
UID:813-1668886200-1668897000@www.thescouthut.org.uk
SUMMARY:Bingo Night
DESCRIPTION:Our popular Bingo Night is back\, with the chance to win some fabulous prizes!\n\nTickets at £10 per person are available here in advance and on the door on the night.\n\nSnacks will be provided and there’ll be a bar. Dabbers will be on sale for the serious players!\n\nYou can pay cash or by card.\n\nThe proceeds will help our Scouts to get to their summer camp next year at the Haarlem Jamborette in the Netherlands.\n\nIt’s always a fun filled night so get everyone together and come along!
URL:https://www.thescouthut.org.uk/event/bingo-night/
LOCATION:All Saints’ Church Hall\, 122 Oakleigh Road North\, London\, N20 9JU
CATEGORIES:Group
ATTACH;FMTTYPE=image/png:https://www.thescouthut.org.uk/wp-content/uploads/2022/06/Bingo-Night-e1665146314221.png
END:VEVENT
END:VCALENDAR